BEGIN:VCALENDAR
VERSION:2.0
PRODID:-//Pueblito Boyacense – Patrimonio Cultural y Turístico de Boyacá - ECPv6.15.12.2//NONSGML v1.0//EN
CALSCALE:GREGORIAN
METHOD:PUBLISH
X-WR-CALNAME:Pueblito Boyacense – Patrimonio Cultural y Turístico de Boyacá
X-ORIGINAL-URL:https://pueblitoboyacense.org
X-WR-CALDESC:Eventos para Pueblito Boyacense – Patrimonio Cultural y Turístico de Boyacá
REFRESH-INTERVAL;VALUE=DURATION:PT1H
X-Robots-Tag:noindex
X-PUBLISHED-TTL:PT1H
BEGIN:VTIMEZONE
TZID:UTC
BEGIN:STANDARD
TZOFFSETFROM:+0000
TZOFFSETTO:+0000
TZNAME:UTC
DTSTART:20240101T000000
END:STANDARD
END:VTIMEZONE
BEGIN:VEVENT
DTSTART;TZID=UTC:20251010T100000
DTEND;TZID=UTC:20251010T110000
DTSTAMP:20260422T193631
CREATED:20251008T005312Z
LAST-MODIFIED:20251008T005537Z
UID:2043-1760090400-1760094000@pueblitoboyacense.org
SUMMARY:Taller “Los Sabores de mi Tierra Boyacense”
DESCRIPTION:Evento: Taller “Los Sabores de mi Tierra Boyacense” –\nExperiencia de Gastronomía (Aforo Limitado)\nInvitada: Elsa Patricia González Rodríguez – Casa Superzona\nLUGAR:PLAZOLETA TIBASOSA LOCAL: CASA CORINA 6-8
URL:https://pueblitoboyacense.org/evento-pueblito-boyacense/taller-los-sabores-de-mi-tierra-boyacense/
CATEGORIES:ACADEMICO,BAZARTE XXVI,GASTRONOMIA
END:VEVENT
BEGIN:VEVENT
DTSTART;TZID=UTC:20251010T140000
DTEND;TZID=UTC:20251010T150000
DTSTAMP:20260422T193631
CREATED:20251008T001239Z
LAST-MODIFIED:20251008T003115Z
UID:2010-1760104800-1760108400@pueblitoboyacense.org
SUMMARY:Turismo\, Patrimonio Y Sostenibilidad: Logros Y Retos En El Departamento De Boyacá
DESCRIPTION:Día de academia\, literatura\, poesía\, cine y reflexión\nEvento: “Turismo\, Patrimonio Y Sostenibilidad: Logros Y Retos En El\nDepartamento De Boyacá”\nInvitados: Richard Eduardo Pulido Sanabria (Secretaría De Turismo –\nGobernación De Boyacá) Wilfredy Bonilla Lagos (Secretaría De\nAmbiente Y Desarrollo Sostenible – Gobernación De Boyacá)\nModeradora: Elsy Castillo Ordoñez\nLUGAR: PLAZOLETA DE VILLA DE LEYVA
URL:https://pueblitoboyacense.org/evento-pueblito-boyacense/turismo-patrimonio-y-sostenibilidad-logros-y-retos-en-el-departamento-de-boyaca/
LOCATION:PLAZOLETA DE VILLA DE LEYVA\, calle 29#26-75\, Duitama\, Boyacá\, 150461\, Colombia
CATEGORIES:ACADEMICO,BAZARTE XXVI,PATRIMONIO
END:VEVENT
BEGIN:VEVENT
DTSTART;TZID=UTC:20251010T150000
DTEND;TZID=UTC:20251010T160000
DTSTAMP:20260422T193631
CREATED:20251008T002201Z
LAST-MODIFIED:20251008T003136Z
UID:2013-1760108400-1760112000@pueblitoboyacense.org
SUMMARY:Duitama Cuenta Su Historia – Recorrido Patrimonial Para Las Nuevas Generaciones
DESCRIPTION:Día de academia\, literatura\, poesía\, cine y reflexión\nEvento: “Duitama Cuenta Su Historia” – Recorrido Patrimonial Para\nLas Nuevas Generaciones”\nInvitados: Grupo Huellas Duitama – Vigías Del Patrimonio\nLidera: Yhon Iván Pava\nLUGAR: PLAZOLETA DE VILLA DE LEYVA
URL:https://pueblitoboyacense.org/evento-pueblito-boyacense/duitama-cuenta-su-historia-recorrido-patrimonial-para-las-nuevas-generaciones/
LOCATION:PLAZOLETA DE VILLA DE LEYVA\, calle 29#26-75\, Duitama\, Boyacá\, 150461\, Colombia
CATEGORIES:ACADEMICO,BAZARTE XXVI,PATRIMONIO
END:VEVENT
BEGIN:VEVENT
DTSTART;TZID=UTC:20251010T150000
DTEND;TZID=UTC:20251010T170000
DTSTAMP:20260422T193631
CREATED:20251008T002449Z
LAST-MODIFIED:20251008T003218Z
UID:2015-1760108400-1760115600@pueblitoboyacense.org
SUMMARY:Taller De Amasijos Boyacenses
DESCRIPTION:Día de academia\, literatura\, poesía\, cine y reflexión\nEvento: “Taller De Amasijos Boyacenses”\nInvitada: Nydia Zoraida Caro (Ramiriquí) (Aforo Limitado)\nLUGAR: LOCAL RESTAURANTE ROSITA DEL\nCAMPO – PLAZOLETA TIBASOSA – LOCAL 6-4
URL:https://pueblitoboyacense.org/evento-pueblito-boyacense/taller-de-amasijos-boyacenses/
LOCATION:LOCAL RESTAURANTE ROSITA DEL CAMPO – PLAZOLETA TIBASOSA – LOCAL 6-4\, calle 29#26-75\, Duitama\, Boyacá\, 150461\, Colombia
CATEGORIES:ACADEMICO,BAZARTE XXVI,GASTRONOMIA
END:VEVENT
BEGIN:VEVENT
DTSTART;TZID=UTC:20251010T160000
DTEND;TZID=UTC:20251010T170000
DTSTAMP:20260422T193631
CREATED:20251008T003437Z
LAST-MODIFIED:20251008T003437Z
UID:2019-1760112000-1760115600@pueblitoboyacense.org
SUMMARY:Encuentro De Poesía Costumbrista – Artistas FICC
DESCRIPTION:Día de academia\, literatura\, poesía\, cine y reflexión\nEvento: “Encuentro De Poesía Costumbrista – Artistas FICC”\nInvitados: Miguel Lizarazo “El Boyaco”\, Ricardo Alfonso Sáenz\,\nFermín Montoya Mojica\, María Ana Rosa Rincón R.\, María Inés Pérez\nM.\, Fredy Alonso León S.\, Germán Augusto Bello “El Indio Rastrojero”\,\nCelso De Jesús Guerrero Casteo.\nLUGAR: PLAZOLETA MONGUÍ
URL:https://pueblitoboyacense.org/evento-pueblito-boyacense/encuentro-de-poesia-costumbrista-artistas-ficc/
CATEGORIES:ACADEMICO,BAZARTE XXVI,NARRACION ORAL
END:VEVENT
BEGIN:VEVENT
DTSTART;TZID=UTC:20251010T173000
DTEND;TZID=UTC:20251010T183000
DTSTAMP:20260422T193631
CREATED:20251008T004022Z
LAST-MODIFIED:20251008T004022Z
UID:2026-1760117400-1760121000@pueblitoboyacense.org
SUMMARY:Taller Experimental De Poesía: “Hay Un Poema En Mi Sopa”
DESCRIPTION:Día de academia\, literatura\, poesía\, cine y reflexión\nEvento: Taller Experimental De Poesía: “Hay Un Poema En Mi\nSopa” (Aforo Limitado)\nInvitada: Yulieth González Zea (Duitama)\nLUGAR:PLAZOLETA VILLA DE LEYVA – LOCAL VERDE Y CAFÉ
URL:https://pueblitoboyacense.org/evento-pueblito-boyacense/taller-experimental-de-poesia-hay-un-poema-en-mi-sopa/
LOCATION:PLAZOLETA VILLA DE LEYVA – LOCAL VERDE Y CAFÉ\, calle 29#26-75\, Duitama\, Boyacá\, 150461\, Colombia
CATEGORIES:ACADEMICO,BAZARTE XXVI,NARRACION ORAL
END:VEVENT
BEGIN:VEVENT
DTSTART;TZID=UTC:20251010T183000
DTEND;TZID=UTC:20251010T193000
DTSTAMP:20260422T193631
CREATED:20251008T004253Z
LAST-MODIFIED:20251008T004641Z
UID:2029-1760121000-1760124600@pueblitoboyacense.org
SUMMARY:Encuentro de cantautores
DESCRIPTION:Día de academia\, literatura\, poesía\, cine y reflexión\nEvento: Encuentro de cantautores\nInvitados: Charlie Santos (Sogamoso) Artista De La Secretaría\nDe Cultura Y Patrimonio De Boyacá\nMario Rincón (Duitama)
URL:https://pueblitoboyacense.org/evento-pueblito-boyacense/encuentro-de-cantautores/
LOCATION:PLAZOLETA DE TIBASOSA\, calle 29#26-75\, Duitama\, Boyacá\, 150461\, Colombia
CATEGORIES:ACADEMICO,BAZARTE XXVI,MUSICAL
END:VEVENT
BEGIN:VEVENT
DTSTART;TZID=UTC:20251010T193000
DTEND;TZID=UTC:20251010T203000
DTSTAMP:20260422T193631
CREATED:20251008T004612Z
LAST-MODIFIED:20251008T004612Z
UID:2034-1760124600-1760128200@pueblitoboyacense.org
SUMMARY:Vientometraje – “La flauta traversa da vida a imágenes en blanco y negro en vivo”
DESCRIPTION:Día de academia\, literatura\, poesía\, cine y reflexión\nEvento: Vientometraje – “La flauta traversa da vida a\nimágenes en blanco y negro en vivo”\nInvitada: Maestra Luna Catalina Tinoco Alarcón (Bogotá)\nLUGAR:PLAZOLETA PRINCIPAL CACIQUE TUNDAMA
URL:https://pueblitoboyacense.org/evento-pueblito-boyacense/vientometraje-la-flauta-traversa-da-vida-a-imagenes-en-blanco-y-negro-en-vivo/
LOCATION:PLAZOLETA CACIQUE TUNDAMA\, calle 29#26-75\, Duitama\, Boyacá\, 150461\, Colombia
CATEGORIES:ACADEMICO,BAZARTE XXVI,CINE
END:VEVENT
BEGIN:VEVENT
DTSTART;TZID=UTC:20251010T203000
DTEND;TZID=UTC:20251010T213000
DTSTAMP:20260422T193631
CREATED:20251008T004745Z
LAST-MODIFIED:20251008T004745Z
UID:2037-1760128200-1760131800@pueblitoboyacense.org
SUMMARY:Documental “Chicamocha”
DESCRIPTION:Día de academia\, literatura\, poesía\, cine y reflexión
URL:https://pueblitoboyacense.org/evento-pueblito-boyacense/documental-chicamocha/
LOCATION:PLAZOLETA CACIQUE TUNDAMA\, calle 29#26-75\, Duitama\, Boyacá\, 150461\, Colombia
CATEGORIES:ACADEMICO,BAZARTE XXVI,CINE
END:VEVENT
END:VCALENDAR