BEGIN:VCALENDAR
VERSION:2.0
PRODID:-//Pueblito Boyacense – Patrimonio Cultural y Turístico de Boyacá - ECPv6.15.12.2//NONSGML v1.0//EN
CALSCALE:GREGORIAN
METHOD:PUBLISH
X-WR-CALNAME:Pueblito Boyacense – Patrimonio Cultural y Turístico de Boyacá
X-ORIGINAL-URL:https://pueblitoboyacense.org
X-WR-CALDESC:Eventos para Pueblito Boyacense – Patrimonio Cultural y Turístico de Boyacá
REFRESH-INTERVAL;VALUE=DURATION:PT1H
X-Robots-Tag:noindex
X-PUBLISHED-TTL:PT1H
BEGIN:VTIMEZONE
TZID:UTC
BEGIN:STANDARD
TZOFFSETFROM:+0000
TZOFFSETTO:+0000
TZNAME:UTC
DTSTART:20240101T000000
END:STANDARD
END:VTIMEZONE
BEGIN:VEVENT
DTSTART;TZID=UTC:20251025T140000
DTEND;TZID=UTC:20251025T170000
DTSTAMP:20260422T193724
CREATED:20251023T000325Z
LAST-MODIFIED:20251023T000447Z
UID:2104-1761400800-1761411600@pueblitoboyacense.org
SUMMARY:Festival de Danza Folclórica Colombiana “Vive y Danza” – Cuarta Edición en el Pueblito Boyacense
DESCRIPTION:Festival de Danza Folclórica Colombiana “Vive y Danza” – Cuarta Edición en el Pueblito Boyacense\nEl Pueblito Boyacense se viste de folclor\, color y tradición para celebrar la Cuarta Edición del Festival de Danza Folclórica Colombiana “Vive y Danza”\, un evento cultural que exalta la identidad y la riqueza artística de nuestro país. Este emblemático destino turístico de Boyacá\, reconocido por su arquitectura típica y su ambiente lleno de historia\, se convierte en el escenario ideal para vivir la magia de la danza tradicional colombiana. \nEn esta edición\, el Pueblito Boyacense recibirá agrupaciones artísticas provenientes de Duitama\, Tunja\, Maripí\, Mongua\, Monguí y Paya\, incluyendo a la destacada Corporación Artística Coldance Duitama. Los visitantes disfrutarán de presentaciones en las categorías infantil\, juvenil\, adulto y adulto mayor\, donde se reflejará la pasión\, la energía y el orgullo de nuestras raíces culturales. \nVen al Pueblito Boyacense y descubre un destino turístico cultural único en Colombia\, donde la danza\, el arte y la tradición se unen para celebrar lo mejor del folclor nacional. ¡Vive la cultura\, siente la danza y enamórate de Boyacá!
URL:https://pueblitoboyacense.org/evento-pueblito-boyacense/festival-de-danza-folclorica-colombiana-vive-y-danza-cuarta-edicion-en-el-pueblito-boyacense/
LOCATION:PLAZOLETA CACIQUE TUNDAMA\, calle 29#26-75\, Duitama\, Boyacá\, 150461\, Colombia
ATTACH;FMTTYPE=image/jpeg:https://pueblitoboyacense.org/wp-content/uploads/2025/10/IMG_8160.jpg
END:VEVENT
END:VCALENDAR