BEGIN:VCALENDAR
VERSION:2.0
PRODID:-//Pueblito Boyacense – Patrimonio Cultural y Turístico de Boyacá - ECPv6.15.12.2//NONSGML v1.0//EN
CALSCALE:GREGORIAN
METHOD:PUBLISH
X-WR-CALNAME:Pueblito Boyacense – Patrimonio Cultural y Turístico de Boyacá
X-ORIGINAL-URL:https://pueblitoboyacense.org
X-WR-CALDESC:Eventos para Pueblito Boyacense – Patrimonio Cultural y Turístico de Boyacá
REFRESH-INTERVAL;VALUE=DURATION:PT1H
X-Robots-Tag:noindex
X-PUBLISHED-TTL:PT1H
BEGIN:VTIMEZONE
TZID:UTC
BEGIN:STANDARD
TZOFFSETFROM:+0000
TZOFFSETTO:+0000
TZNAME:UTC
DTSTART:20240101T000000
END:STANDARD
END:VTIMEZONE
BEGIN:VEVENT
DTSTART;TZID=UTC:20251126T080000
DTEND;TZID=UTC:20260114T170000
DTSTAMP:20260421T212705
CREATED:20260126T184013Z
LAST-MODIFIED:20260126T184013Z
UID:2310-1764144000-1768410000@pueblitoboyacense.org
SUMMARY:Horario de Atención
DESCRIPTION:Horario de Atención\nTemporada Navideña 2025-2026\n \nLa temporada de Aguinaldos llégo a Pueblito Boyacense\nAbrimos nuestras puertas de domingo a domingo\, desde las 9:00 a.m. hasta las 2:00 a.m.\, para que vivas noches iluminadas\, actividades culturales y momentos inolvidables en familia.\n¡Tu mejor destino para esta temporada está aquí!
URL:https://pueblitoboyacense.org/evento-pueblito-boyacense/horario-de-atencion/
END:VEVENT
BEGIN:VEVENT
DTSTART;TZID=UTC:20251128T090000
DTEND;TZID=UTC:20260114T020000
DTSTAMP:20260421T212705
CREATED:20260126T190829Z
LAST-MODIFIED:20260126T190829Z
UID:2320-1764320400-1768356000@pueblitoboyacense.org
SUMMARY:Preventa de Entradas a Pueblito Boyacense
DESCRIPTION:La Navidad en Pueblito Boyacense empieza a brillar y ya puedes asegurar tu ingreso. Desde este 28 de noviembre abrimos la pre-venta oficial de entradas para que tu visita en temporada navideña sea más rápida\, organizada y sin filas.\nSi vienes en grupo\, esta es la oportunidad perfecta para planear con tiempo y garantizar un acceso mucho más ágil.\n¡La magia\, la luz y las tradiciones del pueblito te esperan del 28 de noviembre al 14 de enero!
URL:https://pueblitoboyacense.org/evento-pueblito-boyacense/preventa-de-entradas-a-pueblito-boyacense/
CATEGORIES:Temporada Navideña 2025
END:VEVENT
BEGIN:VEVENT
DTSTART;TZID=UTC:20251128T173000
DTEND;TZID=UTC:20251128T233000
DTSTAMP:20260421T212705
CREATED:20260126T192658Z
LAST-MODIFIED:20260126T203536Z
UID:2325-1764351000-1764372600@pueblitoboyacense.org
SUMMARY:Agenda Cultural 28 Noviembre
DESCRIPTION:Temporada Navideña\n \nEn Pueblito Boyacense\, la Navidad empieza por el origen: la luz✨\nEste viernes 28 de noviembre encendemos oficialmente nuestras luces navideñas y damos inicio a la Temporada de Aguinaldos 2025\, una celebración que honra la tradición\, la música\, los oficios y la alegría que nos identifica como boyacenses. \nDurante todo el fin de semana\, nuestro Pueblito se llenará de música\, fuego\, leyendas\, recorridos y juegos que evocan la esencia de nuestras raíces. \nAgéndate\, ven con tu familia y déjate abrazar por la magia que solo un pueblito construido desde la identidad puede regalar. \nPueblito Boyacense te espera.
URL:https://pueblitoboyacense.org/evento-pueblito-boyacense/agenda-cultural-28-29-y-30-de-noviembre/
LOCATION:PLAZOLETA CACIQUE TUNDAMA\, calle 29#26-75\, Duitama\, Boyacá\, 150461\, Colombia
CATEGORIES:Temporada Navideña 2025
END:VEVENT
BEGIN:VEVENT
DTSTART;TZID=UTC:20251128T180000
DTEND;TZID=UTC:20251128T220000
DTSTAMP:20260421T212705
CREATED:20260126T185403Z
LAST-MODIFIED:20260126T185459Z
UID:2315-1764352800-1764367200@pueblitoboyacense.org
SUMMARY:Inauguración Luces Navideñas
DESCRIPTION:Este viernes 28 de noviembre\, el Pueblito Boyacense volverá a brillar.\nLas calles\, las plazas y los rincones llenos de historia encenderán su luz\, esa que nace del origen\, la tradición y el corazón de nuestra gente.\nVen y siente cómo la magia de la Navidad comienza a despertarse en cada farol\, en cada ventana y en cada sonrisa.\nPorque cuando las luces se encienden\, también se enciende el espíritu que nos une.\n¡Te esperamos en el Pueblito Boyacense!
URL:https://pueblitoboyacense.org/evento-pueblito-boyacense/inauguracion-luces-navidenas/
CATEGORIES:Temporada Navideña 2025
END:VEVENT
END:VCALENDAR