BEGIN:VCALENDAR
VERSION:2.0
PRODID:-//Pueblito Boyacense – Patrimonio Cultural y Turístico de Boyacá - ECPv6.15.12.2//NONSGML v1.0//EN
CALSCALE:GREGORIAN
METHOD:PUBLISH
X-WR-CALNAME:Pueblito Boyacense – Patrimonio Cultural y Turístico de Boyacá
X-ORIGINAL-URL:https://pueblitoboyacense.org
X-WR-CALDESC:Eventos para Pueblito Boyacense – Patrimonio Cultural y Turístico de Boyacá
REFRESH-INTERVAL;VALUE=DURATION:PT1H
X-Robots-Tag:noindex
X-PUBLISHED-TTL:PT1H
BEGIN:VTIMEZONE
TZID:UTC
BEGIN:STANDARD
TZOFFSETFROM:+0000
TZOFFSETTO:+0000
TZNAME:UTC
DTSTART:20250101T000000
END:STANDARD
END:VTIMEZONE
BEGIN:VEVENT
DTSTART;TZID=UTC:20260425T090000
DTEND;TZID=UTC:20260425T210000
DTSTAMP:20260425T014031
CREATED:20260414T210636Z
LAST-MODIFIED:20260414T210636Z
UID:2411-1777107600-1777150800@pueblitoboyacense.org
SUMMARY:Día de la Niñez
DESCRIPTION:Pueblito Boyacense les extiende una cordial invitación a todos nuestros visitantes para que este 25 de abril vivan una jornada especial en familia\, celebrando el Día de la Niñez en un entorno lleno de tradición\, cultura y alegría. \nLos esperamos para compartir momentos inolvidables\, donde los niños y niñas serán los protagonistas entre juegos\, sonrisas y experiencias que fortalecen los lazos familiares. Será una oportunidad para recorrer nuestros espacios\, disfrutar del paisaje y crear recuerdos que perduren en el tiempo. \nLos invitamos a estar atentos a nuestra programación oficial\, donde daremos a conocer todas las actividades preparadas para esta fecha especial. \nVen y celebra con nosotros la magia de la infancia\, en un lugar donde cada rincón inspira\, cada tradición cobra vida y la felicidad se comparte en familia.
URL:https://pueblitoboyacense.org/evento-pueblito-boyacense/dia-de-la-ninez/
CATEGORIES:AGENDA CULTURAL
END:VEVENT
BEGIN:VEVENT
DTSTART;TZID=UTC:20260425T090000
DTEND;TZID=UTC:20260425T210000
DTSTAMP:20260425T014031
CREATED:20260423T234013Z
LAST-MODIFIED:20260423T234150Z
UID:2465-1777107600-1777150800@pueblitoboyacense.org
SUMMARY:¡La alegría de ser niños se vive en el corazón de Boyacá!
DESCRIPTION:Este fin de semana en el Pueblito Boyacense celebramos el Día de la Niñez & Día del Idioma con una programación pensada para despertar la creatividad\, la imaginación y nuestras tradiciones\ncon talleres\, títeres\, juegos tradicionales\, poesía y momentos en familia que conectan generaciones у llenan de sonrisas cada rincón de nuestro pueblito.\nSábado 25 y Domingo 26 de abril\nUn plan perfecto para compartir\, aprender y volver a ser niños.\nVen con toda la familia y disfruta de experiencias únicas donde la cultura\, el arte y la tradición se convierten en recuerdos inolvidables.\nPorque aquí… nadie ama lo que no conoce.
URL:https://pueblitoboyacense.org/evento-pueblito-boyacense/la-alegria-de-ser-ninos-se-vive-en-el-corazon-de-boyaca/
CATEGORIES:AGENDA CULTURAL
END:VEVENT
BEGIN:VEVENT
DTSTART;TZID=UTC:20260425T100000
DTEND;TZID=UTC:20260425T120000
DTSTAMP:20260425T014031
CREATED:20260423T235059Z
LAST-MODIFIED:20260423T235059Z
UID:2479-1777111200-1777118400@pueblitoboyacense.org
SUMMARY:Taller de Cocina Para Niños
DESCRIPTION:Invitamos a los más pequeños a vivir una experiencia divertida\, creativa y deliciosa en nuestro Taller de Cocina para Niños\, donde aprenderán a preparar su propia pizza desde cero. \nDurante esta actividad\, los niños explorarán el mundo de la gastronomía de manera práctica\, conociendo ingredientes\, combinando sabores y desarrollando habilidades como la creatividad\, el trabajo en equipo y la autonomía. Guiados por un facilitador\, cada participante podrá amasar\, decorar y hornear su pizza\, convirtiéndose en un verdadero chef por un día. \nEste taller está diseñado en un ambiente seguro\, dinámico y lleno de diversión\, ideal para estimular el aprendizaje a través del juego y la cocina.
URL:https://pueblitoboyacense.org/evento-pueblito-boyacense/taller-de-cocina-para-ninos/
CATEGORIES:AGENDA CULTURAL
END:VEVENT
BEGIN:VEVENT
DTSTART;TZID=UTC:20260425T143000
DTEND;TZID=UTC:20260425T163000
DTSTAMP:20260425T014031
CREATED:20260423T235457Z
LAST-MODIFIED:20260423T235457Z
UID:2484-1777127400-1777134600@pueblitoboyacense.org
SUMMARY:Taller de Pintura en Pocillos Cerámicos
DESCRIPTION:Taller de Pintura sobre Pocillos de Ráquira\, donde la tradición artesanal de Ráquira cobra vida a través de la imaginación de los más pequeños. \nEn este espacio\, los participantes aprenderán a decorar pocillos en cerámica utilizando colores\, formas y técnicas sencillas\, inspiradas en el arte tradicional boyacense. Guiados por un facilitador\, cada niño podrá expresar su creatividad mientras conoce el valor cultural de la artesanía local\, fortaleciendo su identidad y conexión con el territorio. \nEl taller se desarrolla en un ambiente lúdico\, seguro y participativo\, ideal para estimular habilidades artísticas\, motricidad fina y sensibilidad cultural. Al finalizar\, cada niño se llevará su pocillo pintado como recuerdo de esta experiencia significativa.
URL:https://pueblitoboyacense.org/evento-pueblito-boyacense/taller-de-pintura-en-pocillos-ceramicos/
CATEGORIES:AGENDA CULTURAL
END:VEVENT
BEGIN:VEVENT
DTSTART;TZID=UTC:20260425T170000
DTEND;TZID=UTC:20260425T183000
DTSTAMP:20260425T014031
CREATED:20260423T235850Z
LAST-MODIFIED:20260423T235910Z
UID:2489-1777136400-1777141800@pueblitoboyacense.org
SUMMARY:Obra de Titeres
DESCRIPTION:Obra de títeres que resalta el valor de la amistad y su importancia al momento de desarrollar cómo individuos el sentido de pertenencia con la comunidad a la cual pertenecemos; asimismo\, muestra la supremacía que tiene el conocimiento sobre la ignorancia\, principalmente cómo estrategia para alcanzar la libertad.\nEste montaje mantiene una lúdica constante con el público durante el desarrollo de la obra\, estimulando la participación continua del espectador\ncon el fin de transportarlo al maravilloso mundo de la imaginación\, pues\, el\ntítere es el canal facilitador entre los sentidos y el mundo mágico.
URL:https://pueblitoboyacense.org/evento-pueblito-boyacense/obra-de-titeres/
CATEGORIES:AGENDA CULTURAL
END:VEVENT
BEGIN:VEVENT
DTSTART;TZID=UTC:20260425T183000
DTEND;TZID=UTC:20260425T190000
DTSTAMP:20260425T014031
CREATED:20260424T000355Z
LAST-MODIFIED:20260424T000355Z
UID:2494-1777141800-1777143600@pueblitoboyacense.org
SUMMARY:Poesía Costumbrista Alrededor del Fuego
DESCRIPTION:En el cálido ambiente de una fogata\, donde la palabra cobra vida y la tradición se transmite de generación en generación\, se desarrolla el evento Poesía Costumbrista alrededor del Fuego\, una experiencia cultural que resalta la riqueza oral y el sentir campesino de nuestra región. \nEste espacio invita a propios y visitantes a sumergirse en relatos\, versos y narraciones inspiradas en las costumbres\, paisajes y vivencias del altiplano boyacense. A través de la poesía costumbrista\, se evocan historias cotidianas\, saberes ancestrales y expresiones auténticas que fortalecen la identidad cultural y el sentido de pertenencia. \nEn un entorno íntimo y acogedor\, iluminado por el fuego y acompañado de la noche boyacense\, los asistentes podrán disfrutar de una velada cargada de emoción\, nostalgia y tradición\, donde la palabra se convierte en puente entre el pasado y el presente. \nUna experiencia que enciende la memoria\, celebra la cultura y reúne a la comunidad en torno a sus raíces.
URL:https://pueblitoboyacense.org/evento-pueblito-boyacense/poesia-costumbrista-alrededor-del-fuego/
CATEGORIES:NARRACION ORAL
END:VEVENT
BEGIN:VEVENT
DTSTART;TZID=UTC:20260425T190000
DTEND;TZID=UTC:20260425T200000
DTSTAMP:20260425T014031
CREATED:20260424T001031Z
LAST-MODIFIED:20260424T001031Z
UID:2499-1777143600-1777147200@pueblitoboyacense.org
SUMMARY:Poesía Costumbrista Alrededor del Fuego
DESCRIPTION:En el cálido ambiente de una fogata\, donde la palabra cobra vida y la tradición se transmite de generación en generación\, se desarrolla el evento Poesía Costumbrista alrededor del Fuego\, una experiencia cultural que resalta la riqueza oral y el sentir campesino de nuestra región. \nEste espacio invita a propios y visitantes a sumergirse en relatos\, versos y narraciones inspiradas en las costumbres\, paisajes y vivencias del altiplano boyacense. A través de la poesía costumbrista\, se evocan historias cotidianas\, saberes ancestrales y expresiones auténticas que fortalecen la identidad cultural y el sentido de pertenencia. \nEn un entorno íntimo y acogedor\, iluminado por el fuego y acompañado de la noche boyacense\, los asistentes podrán disfrutar de una velada cargada de emoción\, nostalgia y tradición\, donde la palabra se convierte en puente entre el pasado y el presente. \nUna experiencia que enciende la memoria\, celebra la cultura y reúne a la comunidad en torno a sus raíces.
URL:https://pueblitoboyacense.org/evento-pueblito-boyacense/poesia-costumbrista-alrededor-del-fuego-2/
CATEGORIES:AGENDA CULTURAL,NARRACION ORAL
END:VEVENT
BEGIN:VEVENT
DTSTART;TZID=UTC:20260425T200000
DTEND;TZID=UTC:20260425T210000
DTSTAMP:20260425T014031
CREATED:20260424T001326Z
LAST-MODIFIED:20260424T002247Z
UID:2505-1777147200-1777150800@pueblitoboyacense.org
SUMMARY:Poesía Costumbrista Alrededor del Fuego
DESCRIPTION:En el cálido ambiente de una fogata\, donde la palabra cobra vida y la tradición se transmite de generación en generación\, se desarrolla el evento Poesía Costumbrista alrededor del Fuego\, una experiencia cultural que resalta la riqueza oral y el sentir campesino de nuestra región. \nEste espacio invita a propios y visitantes a sumergirse en relatos\, versos y narraciones inspiradas en las costumbres\, paisajes y vivencias del altiplano boyacense. A través de la poesía costumbrista\, se evocan historias cotidianas\, saberes ancestrales y expresiones auténticas que fortalecen la identidad cultural y el sentido de pertenencia. \nEn un entorno íntimo y acogedor\, iluminado por el fuego y acompañado de la noche boyacense\, los asistentes podrán disfrutar de una velada cargada de emoción\, nostalgia y tradición\, donde la palabra se convierte en puente entre el pasado y el presente. \nUna experiencia que enciende la memoria\, celebra la cultura y reúne a la comunidad en torno a sus raíces.
URL:https://pueblitoboyacense.org/evento-pueblito-boyacense/poesia-costumbrista-alrededor-del-fuego-3/
CATEGORIES:NARRACION ORAL
END:VEVENT
END:VCALENDAR