BEGIN:VCALENDAR
VERSION:2.0
PRODID:-//Pueblito Boyacense – Patrimonio Cultural y Turístico de Boyacá - ECPv6.15.12.2//NONSGML v1.0//EN
CALSCALE:GREGORIAN
METHOD:PUBLISH
X-WR-CALNAME:Pueblito Boyacense – Patrimonio Cultural y Turístico de Boyacá
X-ORIGINAL-URL:https://pueblitoboyacense.org
X-WR-CALDESC:Eventos para Pueblito Boyacense – Patrimonio Cultural y Turístico de Boyacá
REFRESH-INTERVAL;VALUE=DURATION:PT1H
X-Robots-Tag:noindex
X-PUBLISHED-TTL:PT1H
BEGIN:VTIMEZONE
TZID:UTC
BEGIN:STANDARD
TZOFFSETFROM:+0000
TZOFFSETTO:+0000
TZNAME:UTC
DTSTART:20240101T000000
END:STANDARD
END:VTIMEZONE
BEGIN:VEVENT
DTSTART;TZID=UTC:20251011T090000
DTEND;TZID=UTC:20251011T100000
DTSTAMP:20260422T214016
CREATED:20251008T005213Z
LAST-MODIFIED:20251008T005213Z
UID:2041-1760173200-1760176800@pueblitoboyacense.org
SUMMARY:Apertura de la Galería y Exposición “Instrumentarium”
DESCRIPTION:Evento: Apertura de la Galería y Exposición\n“Instrumentarium” del Coleccionista e Investigador\nInternacional Fernando Rojas Quiñones – Instrumentos no\nconvencionales del mundo\nLUGAR: SALÓN CULTURAL “ADEIZAGA” – PUEBLITO\nBOYACENSE – SEGUNDO PISO BLOQUE ADMINISTRATIVO
URL:https://pueblitoboyacense.org/evento-pueblito-boyacense/apertura-de-la-galeria-y-exposicion-instrumentarium/
LOCATION:SEGUNDO PISO BLOQUE ADMINISTRATIVO\, calle 29#26-75\, Duitama\, Boyacá\, 150461\, Colombia
CATEGORIES:ACADEMICO,BAZARTE XXVI,PATRIMONIO
END:VEVENT
BEGIN:VEVENT
DTSTART;TZID=UTC:20251011T140000
DTEND;TZID=UTC:20251011T150000
DTSTAMP:20260422T214016
CREATED:20251008T013629Z
LAST-MODIFIED:20251008T013930Z
UID:2056-1760191200-1760194800@pueblitoboyacense.org
SUMMARY:Dibujando el Bazar de las Artes
DESCRIPTION:Evento: Dibujando el Bazar de las Artes – Colectivo Urban Sketchers de la\nciudad de Tunja\, dan apertura a un espacio de dibujo por todo el Pueblito\nBoyacense; haciendo honor al arte\, la cultura y el patrimonio
URL:https://pueblitoboyacense.org/evento-pueblito-boyacense/dibujando-el-bazar-de-las-artes/
LOCATION:PLAZOLETA CACIQUE TUNDAMA\, calle 29#26-75\, Duitama\, Boyacá\, 150461\, Colombia
CATEGORIES:ACADEMICO,BAZARTE XXVI
END:VEVENT
END:VCALENDAR