BEGIN:VCALENDAR
VERSION:2.0
PRODID:-//Pueblito Boyacense – Patrimonio Cultural y Turístico de Boyacá - ECPv6.15.12.2//NONSGML v1.0//EN
CALSCALE:GREGORIAN
METHOD:PUBLISH
X-ORIGINAL-URL:https://pueblitoboyacense.org
X-WR-CALDESC:Eventos para Pueblito Boyacense – Patrimonio Cultural y Turístico de Boyacá
REFRESH-INTERVAL;VALUE=DURATION:PT1H
X-Robots-Tag:noindex
X-PUBLISHED-TTL:PT1H
BEGIN:VTIMEZONE
TZID:UTC
BEGIN:STANDARD
TZOFFSETFROM:+0000
TZOFFSETTO:+0000
TZNAME:UTC
DTSTART:20240101T000000
END:STANDARD
END:VTIMEZONE
BEGIN:VEVENT
DTSTART;TZID=UTC:20251207T090000
DTEND;TZID=UTC:20251207T170000
DTSTAMP:20260422T185552
CREATED:20251205T011542Z
LAST-MODIFIED:20251205T011542Z
UID:2200-1765098000-1765126800@pueblitoboyacense.org
SUMMARY:Feria del Libro en el Pueblito Boyacense – 7 de diciembre
DESCRIPTION:Feria del Libro – 7 de diciembre\nLa Feria del Libro Pueblito Boyacense cierra su tercera jornada el 7 de diciembre con una mañana dedicada a la literatura\, el aprendizaje y el encuentro cultural. Veta Alpha Librería continúa ofreciendo títulos para todas las edades\, con énfasis en autores boyacenses y obras ideales para regalar durante la temporada. \nEl Taita Nicanor\, personaje oficial de la Navidad 2025\, acompañará nuevamente el evento con su alegría característica. Durante el recorrido compartirá historias\, anécdotas y recomendaciones especiales para que niños y adultos se conecten con la magia de la lectura. \nLa feria se ha convertido en un espacio fundamental dentro de la programación cultural del Pueblito Boyacense\, promoviendo la lectura como parte integral de la identidad del territorio.
URL:https://pueblitoboyacense.org/evento-pueblito-boyacense/feria-del-libro-en-el-pueblito-boyacense-7-de-diciembre/
LOCATION:PLAZOLETA CACIQUE TUNDAMA\, calle 29#26-75\, Duitama\, Boyacá\, 150461\, Colombia
CATEGORIES:ACADEMICO,LITERATURA,Temporada Navideña 2025
ATTACH;FMTTYPE=image/jpeg:https://pueblitoboyacense.org/wp-content/uploads/2025/12/nicanor_leyendo.jpg
END:VEVENT
BEGIN:VEVENT
DTSTART;TZID=UTC:20251207T170000
DTEND;TZID=UTC:20251207T180000
DTSTAMP:20260422T185552
CREATED:20251206T001742Z
LAST-MODIFIED:20251206T001742Z
UID:2238-1765126800-1765130400@pueblitoboyacense.org
SUMMARY:Conversatorio “La Navidad\, un Acto de Amor”
DESCRIPTION:Conversatorio: La Navidad\, un Acto de Amor\nEste conversatorio reúne reflexiones sobre el sentido espiritual\, cultural y comunitario de la Navidad. Organizado por Veta Alpha Librería\, busca inspirar a los asistentes a vivir estas fechas desde el amor y la solidaridad.
URL:https://pueblitoboyacense.org/evento-pueblito-boyacense/conversatorio-la-navidad-un-acto-de-amor/
LOCATION:PLAZOLETA CACIQUE TUNDAMA\, calle 29#26-75\, Duitama\, Boyacá\, 150461\, Colombia
CATEGORIES:ACADEMICO,Temporada Navideña 2025
END:VEVENT
END:VCALENDAR