BEGIN:VCALENDAR
VERSION:2.0
PRODID:-//Pueblito Boyacense – Patrimonio Cultural y Turístico de Boyacá - ECPv6.15.12.2//NONSGML v1.0//EN
CALSCALE:GREGORIAN
METHOD:PUBLISH
X-ORIGINAL-URL:https://pueblitoboyacense.org
X-WR-CALDESC:Eventos para Pueblito Boyacense – Patrimonio Cultural y Turístico de Boyacá
REFRESH-INTERVAL;VALUE=DURATION:PT1H
X-Robots-Tag:noindex
X-PUBLISHED-TTL:PT1H
BEGIN:VTIMEZONE
TZID:UTC
BEGIN:STANDARD
TZOFFSETFROM:+0000
TZOFFSETTO:+0000
TZNAME:UTC
DTSTART:20240101T000000
END:STANDARD
END:VTIMEZONE
BEGIN:VEVENT
DTSTART;TZID=UTC:20251009T080000
DTEND;TZID=UTC:20251009T170000
DTSTAMP:20260420T220859
CREATED:20251009T003438Z
LAST-MODIFIED:20251009T003630Z
UID:2078-1759996800-1760029200@pueblitoboyacense.org
SUMMARY:29 CONCURSO NACIONAL DE MUSICA ANDINA COLOMBIANA INFANTIL Y JUVENIL CACIQUE TUNDAMA
DESCRIPTION:Evento: Gran Final – 29 Concurso Nacional De Música Andina Colombiana Infantil y Juvenil Cacique Tundama – Modalidades Vocal\, Instrumental y Obra Inédita\nInvitados: Artistas Representantes de los departamentos de la Zona\nAndina Colombiana: Cundinamarca\, Antioquia\, Tolima\, Cauca\,\nSantander\, Huila\, Caldas\, Valle del Cauca y Boyacá\nAlianza: Pueblito Boyacense PH – Culturama – Alcaldía de Duitama\nLUGAR: ESCENARIO PRINCIPAL – PLAZOLETA CACIQUE TUNDAMA
URL:https://pueblitoboyacense.org/evento-pueblito-boyacense/29-concurso-nacional-de-musica-andina-colombiana-infantil-y-juvenil-cacique-tundama/
LOCATION:PLAZOLETA CACIQUE TUNDAMA\, calle 29#26-75\, Duitama\, Boyacá\, 150461\, Colombia
CATEGORIES:BAZARTE XXVI,MUSICAL
END:VEVENT
BEGIN:VEVENT
DTSTART;TZID=UTC:20251010T183000
DTEND;TZID=UTC:20251010T193000
DTSTAMP:20260420T220859
CREATED:20251008T004253Z
LAST-MODIFIED:20251008T004641Z
UID:2029-1760121000-1760124600@pueblitoboyacense.org
SUMMARY:Encuentro de cantautores
DESCRIPTION:Día de academia\, literatura\, poesía\, cine y reflexión\nEvento: Encuentro de cantautores\nInvitados: Charlie Santos (Sogamoso) Artista De La Secretaría\nDe Cultura Y Patrimonio De Boyacá\nMario Rincón (Duitama)
URL:https://pueblitoboyacense.org/evento-pueblito-boyacense/encuentro-de-cantautores/
LOCATION:PLAZOLETA DE TIBASOSA\, calle 29#26-75\, Duitama\, Boyacá\, 150461\, Colombia
CATEGORIES:ACADEMICO,BAZARTE XXVI,MUSICAL
END:VEVENT
BEGIN:VEVENT
DTSTART;TZID=UTC:20251011T120000
DTEND;TZID=UTC:20251011T130000
DTSTAMP:20260420T220859
CREATED:20251008T012727Z
LAST-MODIFIED:20251008T012727Z
UID:2049-1760184000-1760187600@pueblitoboyacense.org
SUMMARY:Retreta con la Banda Sinfónica de Nobsa
DESCRIPTION:Evento: Retreta con la Banda Sinfónica de Nobsa – Director: Maestro\nCésar Guevara – Ofrece: Alcaldía Municipal de Nobsa – Helver Ricardo\nGranados Guauque\, Alcalde Municipal
URL:https://pueblitoboyacense.org/evento-pueblito-boyacense/retreta-con-la-banda-sinfonica-de-nobsa/
LOCATION:PLAZOLETA CACIQUE TUNDAMA\, calle 29#26-75\, Duitama\, Boyacá\, 150461\, Colombia
CATEGORIES:BAZARTE XXVI,MUSICAL
END:VEVENT
BEGIN:VEVENT
DTSTART;TZID=UTC:20251011T193000
DTEND;TZID=UTC:20251011T220000
DTSTAMP:20260420T220859
CREATED:20251008T014309Z
LAST-MODIFIED:20251008T014552Z
UID:2058-1760211000-1760220000@pueblitoboyacense.org
SUMMARY:SESACIONAL NOCHE JOVEN FICC
DESCRIPTION:SESACIONAL NOCHE JOVEN FICC\nDescentralización del Festival Internacional de la Cultura Campesina\nInvitados:\n• La Raska (Agrupación de Ska)\n• Giselle (Pop)\n• La Alterna (Grupo de Rock)\n• Ubanda (Agrupación de Rock)
URL:https://pueblitoboyacense.org/evento-pueblito-boyacense/sesacional-noche-joven-ficc/
LOCATION:PLAZOLETA CACIQUE TUNDAMA\, calle 29#26-75\, Duitama\, Boyacá\, 150461\, Colombia
CATEGORIES:BAZARTE XXVI,MUSICAL
END:VEVENT
BEGIN:VEVENT
DTSTART;TZID=UTC:20251011T233000
DTEND;TZID=UTC:20251012T010000
DTSTAMP:20260420T220859
CREATED:20251008T014509Z
LAST-MODIFIED:20251009T001442Z
UID:2061-1760225400-1760230800@pueblitoboyacense.org
SUMMARY:NOCHES DE  INTEGRACION
DESCRIPTION:NOCHES DE INTEGRACION\nInvitados: Orquesta Nacional 4.40 – Ofrecimiento de la Lotería\nde Boyacá – Diego Fabían Hernández Ruíz\, Gerente General\nLUGAR: ESCENARIO PRINCIPAL – PLAZOLETA CACIQUE TUNDAMA
URL:https://pueblitoboyacense.org/evento-pueblito-boyacense/noches-de-integracion/
LOCATION:PLAZOLETA CACIQUE TUNDAMA\, calle 29#26-75\, Duitama\, Boyacá\, 150461\, Colombia
CATEGORIES:BAZARTE XXVI,MUSICAL
END:VEVENT
BEGIN:VEVENT
DTSTART;TZID=UTC:20251012T053000
DTEND;TZID=UTC:20251012T070000
DTSTAMP:20260420T220859
CREATED:20251009T001708Z
LAST-MODIFIED:20251009T010614Z
UID:2064-1760247000-1760252400@pueblitoboyacense.org
SUMMARY:ALBORADA FOLCLÓRICA Y DESPERTAR DE PUEBLITO
DESCRIPTION:Evento: Alborada Musical y Despertar Folclórico\nInvitados: San Pelayo\nLUGAR: PLAZOLETAS Y CALLES DE PUEBLITO BOYACENSE\nEl término «alborada» deriva de «alba\,» que significa amanecer\, por lo que su propósito está intrínsecamente relacionado con saludar el nuevo día.\nEste concepto ha existido en varias culturas desde tiempos antiguos\, donde las celebraciones del amanecer eran vistas como un acto espiritual y\nfestivo. En muchos pueblos y ciudades de España y América Latina\, las alboradas tienen profundas raíces en las tradiciones religiosas\, y se llevan a cabo durante fiestas\npatronales o eventos religiosos como la celebración del día de un santo.\nLa Alborada y el Despertar Folclórico en el Bazarte de Pueblito Boyacense son el llamado primero del día en el lenguaje de la tradición: un amanecer que enciende la luz del sol de un pueblo soñado.  Con tambores\, trompetas\, gaitas y redoblantes\, la herencia se sacude del silencio nocturno y despierta palpitante\, recordándonos que el patrimonio vive en cada nota\, en cada paso y en cada saludo a la aurora.\nEn Pueblito Boyacense la alborada hace parte ya de su historia y tradición.
URL:https://pueblitoboyacense.org/evento-pueblito-boyacense/alborada-folclorica-y-despertar-de-pueblito/
LOCATION:PLAZOLETA CACIQUE TUNDAMA\, calle 29#26-75\, Duitama\, Boyacá\, 150461\, Colombia
CATEGORIES:BAZARTE XXVI,MUSICAL
ATTACH;FMTTYPE=image/png:https://pueblitoboyacense.org/wp-content/uploads/2025/10/alborada.png
END:VEVENT
BEGIN:VEVENT
DTSTART;TZID=UTC:20251012T103000
DTEND;TZID=UTC:20251012T233000
DTSTAMP:20260420T220859
CREATED:20251009T004240Z
LAST-MODIFIED:20251009T004240Z
UID:2087-1760265000-1760311800@pueblitoboyacense.org
SUMMARY:NOCHES DE INTEGRACION
DESCRIPTION:Invitados: Son Libertador – Orquesta de la Primera Brigada del\nEjército Nacional\nLUGAR: ESCENARIO PRINCIPAL – PLAZOLETA CACIQUE TUNDAMA
URL:https://pueblitoboyacense.org/evento-pueblito-boyacense/noches-de-integracion-2/
LOCATION:PLAZOLETA CACIQUE TUNDAMA\, calle 29#26-75\, Duitama\, Boyacá\, 150461\, Colombia
CATEGORIES:BAZARTE XXVI,MUSICAL
END:VEVENT
BEGIN:VEVENT
DTSTART;TZID=UTC:20251012T210000
DTEND;TZID=UTC:20251012T213000
DTSTAMP:20260420T220859
CREATED:20251009T004103Z
LAST-MODIFIED:20251009T004103Z
UID:2084-1760302800-1760304600@pueblitoboyacense.org
SUMMARY:Presentación Especial – Maicol Parra Trío
DESCRIPTION:Evento: Presentación Especial – Maicol Parra Trío – Artista Culturama\nLUGAR: ESCENARIO PRINCIPAL – PLAZOLETA CACIQUE TUNDAMA
URL:https://pueblitoboyacense.org/evento-pueblito-boyacense/presentacion-especial-maicol-parra-trio/
LOCATION:PLAZOLETA CACIQUE TUNDAMA\, calle 29#26-75\, Duitama\, Boyacá\, 150461\, Colombia
CATEGORIES:BAZARTE XXVI,MUSICAL
END:VEVENT
BEGIN:VEVENT
DTSTART;TZID=UTC:20251012T213000
DTEND;TZID=UTC:20251012T223000
DTSTAMP:20260420T220859
CREATED:20251005T193032Z
LAST-MODIFIED:20251009T002041Z
UID:1903-1760304600-1760308200@pueblitoboyacense.org
SUMMARY:Sensacional Concierto Estelar – Katie James
DESCRIPTION:BAZARTE XXVI 2025\nDOMINGO 12 DE OCTUBRE\nCONCIERTOS ESTELARES PUEBLITO BOYACENSE\n\nKatie James (Artista Pueblito Boyacense)\nLa artista anglo-colombiana Katie James llega al Pueblito Boyacense para la Noche Joven del FICC 2025. Vive su fusión de folk\, jazz y sonidos latinoamericanos en un concierto lleno de cultura y emoción en Boyacá. \nKatie James es un abrazo entre dos mundos. Hija de madre inglesa y padre irlandés\, nació en la isla de Inishfree\, un rincón de Irlanda que respira leyenda y melancolía celta. Sin embargo\, sus primeros recuerdos no se pintan con el verde del Atlántico\, sino con el sol y las montañas del Caquetá y Tolima\, donde creció entre cafetales\, quebradas y canciones\, en una comunidad ecológica fundada por su madre. Allí\, en el corazón de Colombia\, comenzó a germinar la voz que con los años se haría universal. \nDesde niña abrazó la música como destino: el violín en sus manos\, la guitarra en su pecho y el canto en su espíritu. Su búsqueda la llevó a Popayán\, donde grabó su primer álbum junto a sus hermanos\, y más tarde a Bogotá\, donde la academia la formó y la vida le abrió caminos de creación. Con paso firme recorrió agrupaciones\, escenarios y países\, hasta decidir andar en solitario\, sembrando su arte en cada lugar que visitaba: desde los Andes hasta Europa\, desde América hasta la raíz misma de su memoria. \nEn más de quince años de carrera\, Katie ha tejido un repertorio que es abrazo entre culturas. \nSu discografía\, cinco álbumes donde dialogan el inglés y el español\, el jazz y el bambuco\, el country y la abuliana\, es un testimonio de esa mezcla sonora que honra tanto sus raíces europeas como las campesinas de Colombia. Con causas como “Tonada del Bien Pensado” la convierten en fenómeno mundial\, llevando el bambuco\, con su emoción y su cadencia campesina\, a resonar en los oídos de quienes jamás habían escuchado su nombre. \nSu talento la ha llevado a compartir caminos con grandes artistas\, como Carlos Vives\, con quien compuso e interpretó En la selva\, un bambuco teñido de vallenato\, y a ser nominada en dos ocasiones a los Premios Nuestra Tierra. \nSu música no solo celebra la belleza de los paisajes y la memoria de los pueblos\, sino que también da voz a lo íntimo: canta a los campesinos\, a las madres\, a los amores que florecen y a los que se marchitan\, a la hija soñada y a los recuerdos que no se dejan ir. \nEn abril de 2022 recibió oficialmente la nacionalidad colombiana\, un gesto simbólico que confirma lo que su canto ya había declarado: Colombia es su hogar del alma. Para celebrar ese vínculo\, Katie entrega Versos Para No Olvidar\, un álbum que revive bambucos\, pasillos\, guabinas\, danzas y valses; canciones heredadas de padres y abuelos que ahora renacen en su voz para abrazar a nuevas generaciones.
URL:https://pueblitoboyacense.org/evento-pueblito-boyacense/sensacional-concierto-estelar-katie-james/
LOCATION:PLAZOLETA CACIQUE TUNDAMA\, calle 29#26-75\, Duitama\, Boyacá\, 150461\, Colombia
CATEGORIES:BAZARTE XXVI,MUSICAL
ATTACH;FMTTYPE=image/jpeg:https://pueblitoboyacense.org/wp-content/uploads/2025/10/Bazarte_Katie_2025.jpg
END:VEVENT
END:VCALENDAR