BEGIN:VCALENDAR
VERSION:2.0
PRODID:-//Pueblito Boyacense – Patrimonio Cultural y Turístico de Boyacá - ECPv6.15.12.2//NONSGML v1.0//EN
CALSCALE:GREGORIAN
METHOD:PUBLISH
X-ORIGINAL-URL:https://pueblitoboyacense.org
X-WR-CALDESC:Eventos para Pueblito Boyacense – Patrimonio Cultural y Turístico de Boyacá
REFRESH-INTERVAL;VALUE=DURATION:PT1H
X-Robots-Tag:noindex
X-PUBLISHED-TTL:PT1H
BEGIN:VTIMEZONE
TZID:UTC
BEGIN:STANDARD
TZOFFSETFROM:+0000
TZOFFSETTO:+0000
TZNAME:UTC
DTSTART:20240101T000000
END:STANDARD
END:VTIMEZONE
BEGIN:VEVENT
DTSTART;TZID=UTC:20251205T180000
DTEND;TZID=UTC:20251205T190000
DTSTAMP:20260420T185346
CREATED:20251205T004611Z
LAST-MODIFIED:20251206T000025Z
UID:2171-1764957600-1764961200@pueblitoboyacense.org
SUMMARY:Proceso de Formación Musical – Fundación Sabach
DESCRIPTION:Presentación del Proceso de Formación Musical – Fundación Sabach\nEl proceso de formación musical de la Fundación Sabach presenta a sus jóvenes talentos en un concierto especial que hace parte de la programación navideña.El Taita Nicanor celebra esta muestra de formación artística\, destacando el valor de enseñar a las nuevas generaciones a expresarse a través de la música. \nEl público disfrutará un repertorio variado en el que los estudiantes demuestran sus avances en técnica vocal e instrumental. Este evento resalta la importancia de la educación artística como parte del patrimonio cultural del Pueblito Boyacense.
URL:https://pueblitoboyacense.org/evento-pueblito-boyacense/proceso-de-formacion-musical-fundacion-sabach/
LOCATION:PLAZOLETA CACIQUE TUNDAMA\, calle 29#26-75\, Duitama\, Boyacá\, 150461\, Colombia
CATEGORIES:MUSICAL,Temporada Navideña 2025
ATTACH;FMTTYPE=image/jpeg:https://pueblitoboyacense.org/wp-content/uploads/2025/12/sabach.jpg
END:VEVENT
BEGIN:VEVENT
DTSTART;TZID=UTC:20251205T190000
DTEND;TZID=UTC:20251205T200000
DTSTAMP:20260420T185346
CREATED:20251205T004912Z
LAST-MODIFIED:20251205T235918Z
UID:2175-1764961200-1764964800@pueblitoboyacense.org
SUMMARY:Presentación del Dueto Kairós en el Pueblito Boyacense
DESCRIPTION:Concierto del Dueto Kairós\nEl Dueto Kairós llega al Pueblito Boyacense con un concierto lleno de sentimiento y música tradicional. El evento se desarrolla en medio de la magia navideña y contará con la compañía del Taita Nicanor\, quien dará la bienvenida y compartirá momentos con el público. \nEste recital es ideal para quienes disfrutan de la música colombiana y los sonidos que evocan nostalgia\, identidad y tradición.
URL:https://pueblitoboyacense.org/evento-pueblito-boyacense/presentacion-del-dueto-kairos-en-el-pueblito-boyacense/
LOCATION:PLAZOLETA CACIQUE TUNDAMA\, calle 29#26-75\, Duitama\, Boyacá\, 150461\, Colombia
CATEGORIES:MUSICAL,Temporada Navideña 2025
ATTACH;FMTTYPE=image/jpeg:https://pueblitoboyacense.org/wp-content/uploads/2025/12/Kairos.jpg
END:VEVENT
BEGIN:VEVENT
DTSTART;TZID=UTC:20251205T200000
DTEND;TZID=UTC:20251205T220000
DTSTAMP:20260420T185346
CREATED:20251204T023600Z
LAST-MODIFIED:20251204T023600Z
UID:2165-1764964800-1764972000@pueblitoboyacense.org
SUMMARY:Música en Vivo con Knela en el Pueblito Boyacense
DESCRIPTION:Presentación en Vivo: Agrupación Knela\nLa agrupación Knela cierra la programación del 5 de diciembre con un concierto vibrante que combina ritmos tradicionales y sonoridades latinas. Su propuesta musical abarca Son Cubano\, Parrandero Navideño y Bolero\, creando un ambiente festivo\, elegante y profundamente emotivo. \nEste espectáculo se vive en el marco de la temporada navideña del Pueblito Boyacense y cuenta con la presencia especial del Taita Nicanor\, quien acompaña la presentación animando al público e invitando a celebrar la música como parte esencial de la identidad boyacense.El Taita Nicanor\, como guardián de la Navidad 2025\, agrega a la noche un toque mágico\, interactuando con los asistentes y realzando el ambiente tradicional del evento. \nLa versatilidad musical de Knela convierte este concierto en una experiencia ideal para quienes buscan una noche de baile\, nostalgia\, alegría navideña y conexión cultural. El repertorio está pensado para compartir en familia\, disfrutar en pareja o vivir al ritmo de las raíces latinoamericanas que marcan la esencia del Son\, el Bolero y el Parrandero.
URL:https://pueblitoboyacense.org/evento-pueblito-boyacense/musica-en-vivo-con-knela-en-el-pueblito-boyacense/
LOCATION:PLAZOLETA CACIQUE TUNDAMA\, calle 29#26-75\, Duitama\, Boyacá\, 150461\, Colombia
CATEGORIES:MUSICAL,Temporada Navideña 2025
ATTACH;FMTTYPE=image/jpeg:https://pueblitoboyacense.org/wp-content/uploads/2025/12/knela.jpg
END:VEVENT
BEGIN:VEVENT
DTSTART;TZID=UTC:20251206T080000
DTEND;TZID=UTC:20251206T170000
DTSTAMP:20260420T185346
CREATED:20251206T002203Z
LAST-MODIFIED:20251206T002203Z
UID:2242-1765008000-1765040400@pueblitoboyacense.org
SUMMARY:Lanzamiento del Mensaje y Canción del Taita Nicanor
DESCRIPTION:Lanzamiento del Mensaje y Canción del Taita Nicanor\nUno de los momentos más esperados del día: el Taita Nicanor presenta oficialmente su mensaje navideño y estrena su canción especial para la temporada 2025. Este acto se convierte en el corazón emocional de la programación. \nEl público podrá escuchar su mensaje de amor\, tradición y boyacanidad\, seguido del lanzamiento musical que representa la esencia del Pueblito Boyacense en Navidad. Es un evento emotivo\, alegre y perfecto para disfrutar en familia.
URL:https://pueblitoboyacense.org/evento-pueblito-boyacense/lanzamiento-del-mensaje-y-cancion-del-taita-nicanor/
CATEGORIES:MUSICAL,Temporada Navideña 2025
END:VEVENT
BEGIN:VEVENT
DTSTART;TZID=UTC:20251206T190000
DTEND;TZID=UTC:20251206T203000
DTSTAMP:20260420T185346
CREATED:20251205T010333Z
LAST-MODIFIED:20260122T225607Z
UID:2190-1765047600-1765053000@pueblitoboyacense.org
SUMMARY:Musical de Navidad en el Pueblito Boyacense – The Music Home
DESCRIPTION:Musical de Navidad – The Music Home\nEl concierto navideño presentado por The Music Home llega al Pueblito Boyacense para llenar la noche de música\, voces infantiles y mensajes de esperanza. Esta puesta en escena fusiona arte\, teatro y música en un espectáculo diseñado para familias y amantes de la Navidad. \nEl Taita Nicanor se integra a la presentación como invitado especial\, compartiendo con los niños y el público un mensaje de amor\, tradición cultural y conexión comunitaria. Su presencia fortalece el sentido de identidad del evento\, convirtiendo el musical en un momento inolvidable para los asistentes. \nEste espectáculo es una de las actividades más esperadas de la programación y un símbolo del espíritu navideño en el Pueblito Boyacense.
URL:https://pueblitoboyacense.org/evento-pueblito-boyacense/musical-de-navidad-en-el-pueblito-boyacense-the-music-home/
LOCATION:PLAZOLETA CACIQUE TUNDAMA\, calle 29#26-75\, Duitama\, Boyacá\, 150461\, Colombia
CATEGORIES:MUSICAL,TEATRO,Temporada Navideña 2025
ATTACH;FMTTYPE=image/webp:https://pueblitoboyacense.org/wp-content/uploads/2025/12/nusical_navidad_nicanor.webp
END:VEVENT
BEGIN:VEVENT
DTSTART;TZID=UTC:20251207T200000
DTEND;TZID=UTC:20251207T210000
DTSTAMP:20260420T185346
CREATED:20251206T002418Z
LAST-MODIFIED:20251206T002418Z
UID:2247-1765137600-1765141200@pueblitoboyacense.org
SUMMARY:Concierto de La Comadre Ena y Sus Ahijados
DESCRIPTION:La Comadre Ena y Sus Ahijados\nLa Comadre Ena y Sus Ahijados presentan un concierto cargado de humor\, tradición y ritmos populares. Su estilo alegre conecta con el público y se complementa con la presencia festiva del Taita Nicanor\, quien anima la velada y baila junto a los asistentes. \nUn evento perfecto para quienes buscan una noche de música tradicional boyacense en un ambiente cálido y familiar.
URL:https://pueblitoboyacense.org/evento-pueblito-boyacense/concierto-de-la-comadre-ena-y-sus-ahijados/
LOCATION:PLAZOLETA CACIQUE TUNDAMA\, calle 29#26-75\, Duitama\, Boyacá\, 150461\, Colombia
CATEGORIES:MUSICAL,Temporada Navideña 2025
END:VEVENT
BEGIN:VEVENT
DTSTART;TZID=UTC:20251207T210000
DTEND;TZID=UTC:20251207T220000
DTSTAMP:20260420T185346
CREATED:20251206T002611Z
LAST-MODIFIED:20251206T002611Z
UID:2251-1765141200-1765144800@pueblitoboyacense.org
SUMMARY:Concierto de Los Ernuaños en el Pueblito Boyacense
DESCRIPTION:Concierto de Los Ernuaños\nLos Ernuaños cierran la jornada del 7 de diciembre con un concierto lleno de alegría\, ritmo y música tradicional. Sus interpretaciones conectan con la esencia boyacense y mantienen la fiesta viva hasta el final.
URL:https://pueblitoboyacense.org/evento-pueblito-boyacense/concierto-de-los-ernuanos-en-el-pueblito-boyacense/
CATEGORIES:MUSICAL,Temporada Navideña 2025
END:VEVENT
END:VCALENDAR