BEGIN:VCALENDAR
VERSION:2.0
PRODID:-//Pueblito Boyacense – Patrimonio Cultural y Turístico de Boyacá - ECPv6.15.12.2//NONSGML v1.0//EN
CALSCALE:GREGORIAN
METHOD:PUBLISH
X-WR-CALNAME:Pueblito Boyacense – Patrimonio Cultural y Turístico de Boyacá
X-ORIGINAL-URL:https://pueblitoboyacense.org
X-WR-CALDESC:Eventos para Pueblito Boyacense – Patrimonio Cultural y Turístico de Boyacá
REFRESH-INTERVAL;VALUE=DURATION:PT1H
X-Robots-Tag:noindex
X-PUBLISHED-TTL:PT1H
BEGIN:VTIMEZONE
TZID:UTC
BEGIN:STANDARD
TZOFFSETFROM:+0000
TZOFFSETTO:+0000
TZNAME:UTC
DTSTART:20240101T000000
END:STANDARD
END:VTIMEZONE
BEGIN:VEVENT
DTSTART;TZID=UTC:20251207T200000
DTEND;TZID=UTC:20251207T210000
DTSTAMP:20260420T203737
CREATED:20251206T002418Z
LAST-MODIFIED:20251206T002418Z
UID:2247-1765137600-1765141200@pueblitoboyacense.org
SUMMARY:Concierto de La Comadre Ena y Sus Ahijados
DESCRIPTION:La Comadre Ena y Sus Ahijados\nLa Comadre Ena y Sus Ahijados presentan un concierto cargado de humor\, tradición y ritmos populares. Su estilo alegre conecta con el público y se complementa con la presencia festiva del Taita Nicanor\, quien anima la velada y baila junto a los asistentes. \nUn evento perfecto para quienes buscan una noche de música tradicional boyacense en un ambiente cálido y familiar.
URL:https://pueblitoboyacense.org/evento-pueblito-boyacense/concierto-de-la-comadre-ena-y-sus-ahijados/
LOCATION:PLAZOLETA CACIQUE TUNDAMA\, calle 29#26-75\, Duitama\, Boyacá\, 150461\, Colombia
CATEGORIES:MUSICAL,Temporada Navideña 2025
END:VEVENT
BEGIN:VEVENT
DTSTART;TZID=UTC:20251207T210000
DTEND;TZID=UTC:20251207T220000
DTSTAMP:20260420T203737
CREATED:20251206T002611Z
LAST-MODIFIED:20251206T002611Z
UID:2251-1765141200-1765144800@pueblitoboyacense.org
SUMMARY:Concierto de Los Ernuaños en el Pueblito Boyacense
DESCRIPTION:Concierto de Los Ernuaños\nLos Ernuaños cierran la jornada del 7 de diciembre con un concierto lleno de alegría\, ritmo y música tradicional. Sus interpretaciones conectan con la esencia boyacense y mantienen la fiesta viva hasta el final.
URL:https://pueblitoboyacense.org/evento-pueblito-boyacense/concierto-de-los-ernuanos-en-el-pueblito-boyacense/
CATEGORIES:MUSICAL,Temporada Navideña 2025
END:VEVENT
END:VCALENDAR