BEGIN:VCALENDAR
VERSION:2.0
PRODID:-//Pueblito Boyacense – Patrimonio Cultural y Turístico de Boyacá - ECPv6.15.12.2//NONSGML v1.0//EN
CALSCALE:GREGORIAN
METHOD:PUBLISH
X-ORIGINAL-URL:https://pueblitoboyacense.org
X-WR-CALDESC:Eventos para Pueblito Boyacense – Patrimonio Cultural y Turístico de Boyacá
REFRESH-INTERVAL;VALUE=DURATION:PT1H
X-Robots-Tag:noindex
X-PUBLISHED-TTL:PT1H
BEGIN:VTIMEZONE
TZID:UTC
BEGIN:STANDARD
TZOFFSETFROM:+0000
TZOFFSETTO:+0000
TZNAME:UTC
DTSTART:20240101T000000
END:STANDARD
END:VTIMEZONE
BEGIN:VEVENT
DTSTART;TZID=UTC:20251013T090000
DTEND;TZID=UTC:20251013T170000
DTSTAMP:20260420T051754
CREATED:20251009T004505Z
LAST-MODIFIED:20251009T004505Z
UID:2089-1760346000-1760374800@pueblitoboyacense.org
SUMMARY:FERIA ARTESANAL
DESCRIPTION:Evento: Apertura de la Feria Artesanal Ciudad Duitama y Pueblito\nBoyacense – Organiza Secretaría de Industria\, Comercio y Turismo de\nDuitama\nLUGAR: ESCENARIO PRINCIPAL – PLAZOLETA CACIQUE TUNDAMA
URL:https://pueblitoboyacense.org/evento-pueblito-boyacense/feria-artesanal/
LOCATION:PLAZOLETA CACIQUE TUNDAMA\, calle 29#26-75\, Duitama\, Boyacá\, 150461\, Colombia
CATEGORIES:BAZARTE XXVI,PATRIMONIO
END:VEVENT
BEGIN:VEVENT
DTSTART;TZID=UTC:20251013T130000
DTEND;TZID=UTC:20251013T140000
DTSTAMP:20260420T051754
CREATED:20251009T005153Z
LAST-MODIFIED:20251009T005153Z
UID:2097-1760360400-1760364000@pueblitoboyacense.org
SUMMARY:LOS JUEGOS AUTÓCTONOS DEL AYER
DESCRIPTION:Evento: Los Juegos Autóctonos del Ayer – Encostalados\,\nrana\, trompo\, tejo y más\nInvitados: Organización 1A\nLUGAR: PLAZOLETA CACIQUE TUNDAMA
URL:https://pueblitoboyacense.org/evento-pueblito-boyacense/los-juegos-autoctonos-del-ayer/
LOCATION:PLAZOLETA CACIQUE TUNDAMA\, calle 29#26-75\, Duitama\, Boyacá\, 150461\, Colombia
CATEGORIES:BAZARTE XXVI,PATRIMONIO
END:VEVENT
END:VCALENDAR