BEGIN:VCALENDAR
VERSION:2.0
PRODID:-//Pueblito Boyacense – Patrimonio Cultural y Turístico de Boyacá - ECPv6.15.12.2//NONSGML v1.0//EN
CALSCALE:GREGORIAN
METHOD:PUBLISH
X-ORIGINAL-URL:https://pueblitoboyacense.org
X-WR-CALDESC:Eventos para Pueblito Boyacense – Patrimonio Cultural y Turístico de Boyacá
REFRESH-INTERVAL;VALUE=DURATION:PT1H
X-Robots-Tag:noindex
X-PUBLISHED-TTL:PT1H
BEGIN:VTIMEZONE
TZID:UTC
BEGIN:STANDARD
TZOFFSETFROM:+0000
TZOFFSETTO:+0000
TZNAME:UTC
DTSTART:20240101T000000
END:STANDARD
END:VTIMEZONE
BEGIN:VEVENT
DTSTART;TZID=UTC:20251012T100000
DTEND;TZID=UTC:20251012T110000
DTSTAMP:20260422T144007
CREATED:20251009T002249Z
LAST-MODIFIED:20251009T002249Z
UID:2067-1760263200-1760266800@pueblitoboyacense.org
SUMMARY:MISA CRIOLLA
DESCRIPTION:Evento: Misa Criolla Campal – Homenaje al Santo de Las Artes\, San Francisco de Asís\nInvitados: Agrupación Frenesí – Mario Rincón – Ofrece: Comité\nReligioso Pueblito Boyacense\nLUGAR: ESCENARIO PRINCIPAL – PLAZOLETA CACIQUE TUNDAMA
URL:https://pueblitoboyacense.org/evento-pueblito-boyacense/misa-criolla/
LOCATION:PLAZOLETA CACIQUE TUNDAMA\, calle 29#26-75\, Duitama\, Boyacá\, 150461\, Colombia
CATEGORIES:BAZARTE XXVI,RELIGIOSO
END:VEVENT
END:VCALENDAR