BEGIN:VCALENDAR
VERSION:2.0
PRODID:-//Pueblito Boyacense – Patrimonio Cultural y Turístico de Boyacá - ECPv6.15.12.2//NONSGML v1.0//EN
CALSCALE:GREGORIAN
METHOD:PUBLISH
X-ORIGINAL-URL:https://pueblitoboyacense.org
X-WR-CALDESC:Eventos para Pueblito Boyacense – Patrimonio Cultural y Turístico de Boyacá
REFRESH-INTERVAL;VALUE=DURATION:PT1H
X-Robots-Tag:noindex
X-PUBLISHED-TTL:PT1H
BEGIN:VTIMEZONE
TZID:UTC
BEGIN:STANDARD
TZOFFSETFROM:+0000
TZOFFSETTO:+0000
TZNAME:UTC
DTSTART:20250101T000000
END:STANDARD
END:VTIMEZONE
BEGIN:VEVENT
DTSTART;TZID=UTC:20260423T090000
DTEND;TZID=UTC:20260423T210000
DTSTAMP:20260420T130228
CREATED:20260416T203844Z
LAST-MODIFIED:20260416T234357Z
UID:2417-1776934800-1776978000@pueblitoboyacense.org
SUMMARY:Día del Idioma
DESCRIPTION:En el corazón de Pueblito Boyacense\, las palabras encuentran su lugar entre la historia y la tradición. Cada rincón\, cada fachada y cada sendero guarda relatos que han sido transmitidos a través del tiempo\, manteniendo viva la esencia de nuestra cultura. \nEn el marco del Día del Idioma\, este espacio se convierte en un punto de encuentro para reconocer el valor del lenguaje como puente entre generaciones. Las letras no solo narran historias\, también conservan saberes\, evocan memorias y fortalecen nuestra identidad. \nHoy\, más que nunca\, el idioma nos invita a detenernos\, escuchar y redescubrir la riqueza de lo que somos. En Pueblito Boyacense\, el lenguaje sigue latiendo en cada palabra compartida\, en cada historia contada y en cada visitante que se conecta con nuestras raíces.
URL:https://pueblitoboyacense.org/evento-pueblito-boyacense/dia-del-idioma/
CATEGORIES:ARTE
END:VEVENT
BEGIN:VEVENT
DTSTART;TZID=UTC:20260425T090000
DTEND;TZID=UTC:20260425T210000
DTSTAMP:20260420T130228
CREATED:20260414T210636Z
LAST-MODIFIED:20260414T210636Z
UID:2411-1777107600-1777150800@pueblitoboyacense.org
SUMMARY:Día de la Niñez
DESCRIPTION:Pueblito Boyacense les extiende una cordial invitación a todos nuestros visitantes para que este 25 de abril vivan una jornada especial en familia\, celebrando el Día de la Niñez en un entorno lleno de tradición\, cultura y alegría. \nLos esperamos para compartir momentos inolvidables\, donde los niños y niñas serán los protagonistas entre juegos\, sonrisas y experiencias que fortalecen los lazos familiares. Será una oportunidad para recorrer nuestros espacios\, disfrutar del paisaje y crear recuerdos que perduren en el tiempo. \nLos invitamos a estar atentos a nuestra programación oficial\, donde daremos a conocer todas las actividades preparadas para esta fecha especial. \nVen y celebra con nosotros la magia de la infancia\, en un lugar donde cada rincón inspira\, cada tradición cobra vida y la felicidad se comparte en familia.
URL:https://pueblitoboyacense.org/evento-pueblito-boyacense/dia-de-la-ninez/
CATEGORIES:AGENDA CULTURAL
END:VEVENT
END:VCALENDAR